BEGIN:VCALENDAR
VERSION:2.0
PRODID:-//Contratero//ES
CALSCALE:GREGORIAN
METHOD:PUBLISH
BEGIN:VEVENT
UID:Exp C26/31@contratero.es
DTSTAMP:20260419T163643Z
DTSTART:20260413T235959
DTEND:20260414T005959
SUMMARY:Cierre: Contrato de suministro para la renovación e implan
DESCRIPTION:Contrato de suministro para la renovación e implantación de diversas licencias de Manageengine\\n\\nOrganismo: Consejo de Administración de la Empresa Municipal Saneamientos de Córdoba S.A. (SADECO)\\n\\nVer en Contratero: https://contratero.es/contracts/Exp C26/31
URL:https://contratero.es/contracts/Exp C26/31
STATUS:CONFIRMED
BEGIN:VALARM
TRIGGER:-P1D
ACTION:DISPLAY
DESCRIPTION:Recordatorio: Contrato de suministro para la
END:VALARM
END:VEVENT
END:VCALENDAR